BEGIN:VCALENDAR
VERSION:2.0
PRODID:-//Glory House - The Gospel Faith Mission International - ECPv6.15.15//NONSGML v1.0//EN
CALSCALE:GREGORIAN
METHOD:PUBLISH
X-WR-CALNAME:Glory House - The Gospel Faith Mission International
X-ORIGINAL-URL:https://gloryhouse.org
X-WR-CALDESC:Events for Glory House - The Gospel Faith Mission International
REFRESH-INTERVAL;VALUE=DURATION:PT1H
X-Robots-Tag:noindex
X-PUBLISHED-TTL:PT1H
BEGIN:VTIMEZONE
TZID:America/New_York
BEGIN:DAYLIGHT
TZOFFSETFROM:-0500
TZOFFSETTO:-0400
TZNAME:EDT
DTSTART:20230312T070000
END:DAYLIGHT
BEGIN:STANDARD
TZOFFSETFROM:-0400
TZOFFSETTO:-0500
TZNAME:EST
DTSTART:20231105T060000
END:STANDARD
BEGIN:DAYLIGHT
TZOFFSETFROM:-0500
TZOFFSETTO:-0400
TZNAME:EDT
DTSTART:20240310T070000
END:DAYLIGHT
BEGIN:STANDARD
TZOFFSETFROM:-0400
TZOFFSETTO:-0500
TZNAME:EST
DTSTART:20241103T060000
END:STANDARD
BEGIN:DAYLIGHT
TZOFFSETFROM:-0500
TZOFFSETTO:-0400
TZNAME:EDT
DTSTART:20250309T070000
END:DAYLIGHT
BEGIN:STANDARD
TZOFFSETFROM:-0400
TZOFFSETTO:-0500
TZNAME:EST
DTSTART:20251102T060000
END:STANDARD
END:VTIMEZONE
BEGIN:VEVENT
DTSTART;TZID=America/New_York:20240424T080000
DTEND;TZID=America/New_York:20240428T170000
DTSTAMP:20260422T060605
CREATED:20240413T190453Z
LAST-MODIFIED:20240520T190716Z
UID:1611-1713945600-1714323600@gloryhouse.org
SUMMARY:Glory House 12th Anniversary
DESCRIPTION:The 12th Anniverary Celebration of the Gospel Faith Mission International (GOFAMINT) Glory House will take place from April 24-28\, 2024. Theme is Jubilee.
URL:https://gloryhouse.org/event/glory-house-12th-anniversary/
LOCATION:Church Auditorium – The Transformation Place\, 13001 Veronica Road\, Dallas\, TX\, 75234\, United States
CATEGORIES:Special Events
ATTACH;FMTTYPE=image/jpeg:https://gloryhouse.org/wp-content/uploads/2024/04/gh-jubillee-banner.jpg
END:VEVENT
END:VCALENDAR